BEGIN:VCALENDAR
VERSION:2.0
PRODID:-//Intand Corporation//Tandem//EN
METHOD:PUBLISH
BEGIN:VEVENT
DTSTAMP:20260421T094700Z
DTSTART:20260213T143000Z
DTEND:20260213T220000Z
TRANSP:TRANSPARENT
PRIORITY:0
SUMMARY:AIM - Phoenix Academy Field Trip - Fountain Library
LOCATION:Fountain Library
DESCRIPTION:Groups:\nAIM - Phoenix\n\nSchools:\nA.I.M. Education Center\n\
 nLocation:\nFountain Library\n\n
URL;VALUE=URI:http://ffc8.tandem.co/index.php?type=view&action=event&id=72
 42616
CREATED:20260107T190905Z
LAST-MODIFIED:20260107T190905Z
UID:event-7242616-ffc8@intand.com
END:VEVENT
END:VCALENDAR
